BEGIN:VCALENDAR
VERSION:2.0
PRODID:spatie/icalendar-generator
DESCRIPTION:Events from Oakville\, Manitoba
X-WR-CALDESC:Events from Oakville\, Manitoba
REFRESH-INTERVAL;VALUE=DURATION:PT1440M
X-PUBLISHED-TTL:PT1440M
BEGIN:VTIMEZONE
TZID:America/Winnipeg
BEGIN:DAYLIGHT
DTSTART:20260308T020000Z
TZOFFSETFROM:-0600
TZOFFSETTO:-0500
END:DAYLIGHT
BEGIN:STANDARD
DTSTART:20261101T020000Z
TZOFFSETFROM:-0500
TZOFFSETTO:-0600
END:STANDARD
END:VTIMEZONE
BEGIN:VTIMEZONE
TZID:UTC
BEGIN:STANDARD
DTSTART:20250723T132253Z
TZOFFSETFROM:+0000
TZOFFSETTO:+0000
END:STANDARD
END:VTIMEZONE
BEGIN:VEVENT
UID:676-109
DTSTAMP:20260419T132253Z
SUMMARY:Oakville Farmers Market
LOCATION:Oakville Community Centre 625 3 Ave\, Oakville\, MB R0H 0Y0  Oakvi
 lle Manitoba R0C3H0
ORGANIZER;CN=Oakville Webmaster:MAILTO:oakville.mb@gmail.com
DTSTART;TZID=America/Winnipeg:20260806T170000
DTEND;TZID=America/Winnipeg:20260806T190000
X-ALT-DESC;FMTTYPE=TEXT/HTML:
CATEGORIES:Market
URL;VALUE=URI:https://www.oakville-mb.ca/mc-events/oakville-farmers-market-
 3/
METHOD:PUBLISH
END:VEVENT
END:VCALENDAR